BEGIN:VCALENDAR
VERSION:2.0
PRODID:DPCALENDAR
CALSCALE:GREGORIAN
BEGIN:VTIMEZONE
TZID:Europe/Berlin
X-MICROSOFT-CDO-TZID:4
BEGIN:STANDARD
DTSTART:20251026T010000
TZOFFSETFROM:+0200
TZOFFSETTO:+0100
TZNAME:CET
END:STANDARD
BEGIN:STANDARD
DTSTART:20261025T010000
TZOFFSETFROM:+0200
TZOFFSETTO:+0100
TZNAME:CET
END:STANDARD
BEGIN:DAYLIGHT
DTSTART:20260329T010000
TZOFFSETFROM:+0100
TZOFFSETTO:+0200
TZNAME:CEST
END:DAYLIGHT
END:VTIMEZONE
X-WR-TIMEZONE:Europe/Berlin
BEGIN:VEVENT
DTSTART;TZID=Europe/Berlin:20230225T140000
DTEND;TZID=Europe/Berlin:20230225T190000
UID:70411B6E-AD8E-4BCF-8197-D8A04D6F4635
SUMMARY:Scottish Country Dance 
CREATED:20230128T204010Z
DTSTAMP:20230128T204010Z
URL:http://hallenbelegung.hsg-hude-falkenburg.de/index.php/jahnhalle/wochenendbelegung-spielgelraum/scottish-country-dance
LAST-MODIFIED:20230128T204249Z
SEQUENCE:159
X-ACCESS:1
X-HITS:9
X-COLOR:ffffff
X-SHOW-END-TIME:1
END:VEVENT
BEGIN:VEVENT
DTSTART;TZID=Europe/Berlin:20230305T130000
DTEND;TZID=Europe/Berlin:20230305T160000
UID:750ED42F-AC13-4022-A9B5-8C3AC6659EFC
SUMMARY:Tischtennis
CREATED:20230302T202458Z
DTSTAMP:20230302T202458Z
URL:http://hallenbelegung.hsg-hude-falkenburg.de/index.php/jahnhalle/wochenendbelegung-spielgelraum/tischtennis-3
X-ACCESS:1
X-HITS:9
X-COLOR:ffffff
X-SHOW-END-TIME:1
END:VEVENT
BEGIN:VEVENT
DTSTART;TZID=Europe/Berlin:20230610T140000
DTEND;TZID=Europe/Berlin:20230610T190000
UID:32576925-4205-4EB7-B641-C4B5D255E355
SUMMARY:Scottish Country Dance 
CREATED:20230128T204056Z
DTSTAMP:20230128T204056Z
URL:http://hallenbelegung.hsg-hude-falkenburg.de/index.php/jahnhalle/wochenendbelegung-spielgelraum/scottish-country-dance-2
X-ACCESS:1
X-HITS:11
X-COLOR:ffffff
X-SHOW-END-TIME:1
END:VEVENT
BEGIN:VEVENT
DTSTART;VALUE=DATE:20230617
DTEND;VALUE=DATE:20230618
UID:2909A346-BDA6-4144-B1F5-5FEFB0E1C6C9
SUMMARY:TVH Sommerfest
CREATED:20230602T201730Z
DTSTAMP:20230602T201730Z
URL:http://hallenbelegung.hsg-hude-falkenburg.de/index.php/jahnhalle/wochenendbelegung-spielgelraum/tvh-sommerfest
X-ACCESS:1
X-HITS:9
X-COLOR:ffffff
X-SHOW-END-TIME:1
END:VEVENT
BEGIN:VEVENT
DTSTART;VALUE=DATE:20230708
DTEND;VALUE=DATE:20230709
UID:177A0015-3AF3-4648-A818-22B4F87F3853
SUMMARY:Grundreinigung
CREATED:20230607T093322Z
DTSTAMP:20230607T093322Z
URL:http://hallenbelegung.hsg-hude-falkenburg.de/index.php/jahnhalle/wochenendbelegung-spielgelraum/grundreinigung-3
X-ACCESS:1
X-HITS:8
X-COLOR:ffffff
X-SHOW-END-TIME:1
END:VEVENT
BEGIN:VEVENT
DTSTART;TZID=Europe/Berlin:20230805T190000
DTEND;TZID=Europe/Berlin:20230805T234500
UID:B765CBBD-5A95-42C6-A110-E409B4758118
SUMMARY:Tischtennis
CREATED:20230801T151847Z
DTSTAMP:20230801T151847Z
URL:http://hallenbelegung.hsg-hude-falkenburg.de/index.php/jahnhalle/wochenendbelegung-spielgelraum/tischtennis-9
X-ACCESS:1
X-HITS:9
X-COLOR:ffffff
X-SHOW-END-TIME:1
END:VEVENT
BEGIN:VEVENT
DTSTART;TZID=Europe/Berlin:20230930T080000
DTEND;TZID=Europe/Berlin:20231001T190000
UID:D9293DAE-C439-4403-B104-C030B68F70E1
SUMMARY:Handballcamp Klaus Feldmann
CREATED:20230822T141216Z
DTSTAMP:20230822T141216Z
URL:http://hallenbelegung.hsg-hude-falkenburg.de/index.php/jahnhalle/wochenendbelegung-spielgelraum/handballcamp-klaus-feldmann-2
X-ACCESS:1
X-HITS:12
X-COLOR:ffffff
X-SHOW-END-TIME:1
END:VEVENT
BEGIN:VEVENT
DTSTART;TZID=Europe/Berlin:20231014T140000
DTEND;TZID=Europe/Berlin:20231014T180000
UID:ABECF7FF-17E5-44C2-9CEA-2CA0BF250E94
SUMMARY:Scottish Country Dance 
CREATED:20230129T141157Z
DTSTAMP:20230129T141157Z
URL:http://hallenbelegung.hsg-hude-falkenburg.de/index.php/jahnhalle/wochenendbelegung-spielgelraum/scottish-country-dance-3
LAST-MODIFIED:20230611T074227Z
SEQUENCE:11467830
X-ACCESS:1
X-HITS:17
X-COLOR:ffffff
X-SHOW-END-TIME:1
END:VEVENT
BEGIN:VEVENT
DTSTART;VALUE=DATE:20231111
DTEND;VALUE=DATE:20231112
UID:B270A141-23B7-4492-8DB6-F70CCFC120B4
SUMMARY:PottersPairs 2023
CREATED:20230611T091131Z
DTSTAMP:20230611T091131Z
URL:http://hallenbelegung.hsg-hude-falkenburg.de/index.php/jahnhalle/wochenendbelegung-spielgelraum/potterspairs-2026
X-ACCESS:1
X-HITS:9
X-COLOR:ffffff
X-SHOW-END-TIME:1
END:VEVENT
BEGIN:VEVENT
DTSTART;VALUE=DATE:20231112
DTEND;VALUE=DATE:20231113
UID:8528C3D2-C3E8-4801-B26D-8BFF91E381A3
SUMMARY:PottersPairs 2023
CREATED:20230611T091234Z
DTSTAMP:20230611T091234Z
URL:http://hallenbelegung.hsg-hude-falkenburg.de/index.php/jahnhalle/wochenendbelegung-spielgelraum/potterspairs-2028
X-ACCESS:1
X-HITS:9
X-COLOR:ffffff
X-SHOW-END-TIME:1
END:VEVENT
BEGIN:VEVENT
DTSTART;TZID=Europe/Berlin:20231209T153000
DTEND;TZID=Europe/Berlin:20231209T173000
UID:63AE72BE-03F2-4593-AD5D-6DB461ACF8B9
SUMMARY:Tischtennis
CREATED:20231209T123913Z
DTSTAMP:20231209T123913Z
URL:http://hallenbelegung.hsg-hude-falkenburg.de/index.php/jahnhalle/wochenendbelegung-spielgelraum/tischtennis-10
X-ACCESS:1
X-HITS:11
X-COLOR:ffffff
X-SHOW-END-TIME:1
END:VEVENT
BEGIN:VEVENT
DTSTART;TZID=Europe/Berlin:20231210T150000
DTEND;TZID=Europe/Berlin:20231210T190000
UID:ADA27785-D104-451D-9CF4-26068C2AFD03
SUMMARY:Tischtennis
CREATED:20231209T205618Z
DTSTAMP:20231209T205618Z
URL:http://hallenbelegung.hsg-hude-falkenburg.de/index.php/jahnhalle/wochenendbelegung-spielgelraum/tischtennis-11
X-ACCESS:1
X-HITS:12
X-COLOR:ffffff
X-SHOW-END-TIME:1
END:VEVENT
BEGIN:VEVENT
DTSTART;VALUE=DATE:20231223
DTEND;VALUE=DATE:20231224
UID:42E18B49-2226-4D8F-9BC0-9119922B1949
SUMMARY:Blutspende
CREATED:20230606T185017Z
DTSTAMP:20230606T185017Z
URL:http://hallenbelegung.hsg-hude-falkenburg.de/index.php/jahnhalle/wochenendbelegung-spielgelraum/blutspende-21
X-ACCESS:1
X-HITS:8
X-COLOR:ffffff
X-SHOW-END-TIME:1
END:VEVENT
BEGIN:VEVENT
DTSTART;TZID=Europe/Berlin:20231231T180000
DTEND;TZID=Europe/Berlin:20231231T235900
UID:D29B5386-AAA7-40C5-9B37-E27C5219D1EB
SUMMARY:Schottentanz
CREATED:20230803T095548Z
DTSTAMP:20230803T095548Z
URL:http://hallenbelegung.hsg-hude-falkenburg.de/index.php/jahnhalle/wochenendbelegung-spielgelraum/schottentanz-2
X-ACCESS:1
X-HITS:9
X-COLOR:ffffff
X-SHOW-END-TIME:1
END:VEVENT
BEGIN:VEVENT
DTSTART;TZID=Europe/Berlin:20240127T120000
DTEND;TZID=Europe/Berlin:20240127T235900
UID:083DFF46-1EB0-41FD-97BE-CE95A51DF3F1
SUMMARY:Indoor-Cycling  
CREATED:20231225T220604Z
DTSTAMP:20231225T220604Z
URL:http://hallenbelegung.hsg-hude-falkenburg.de/index.php/jahnhalle/wochenendbelegung-spielgelraum/indoor-cycling
X-ACCESS:1
X-HITS:9
X-COLOR:ffffff
X-SHOW-END-TIME:1
END:VEVENT
BEGIN:VEVENT
DTSTART;VALUE=DATE:20240128
DTEND;VALUE=DATE:20240129
UID:D5F53C10-FE59-433A-A9CC-1804E08D2728
SUMMARY:Indoor-Cycling
CREATED:20231225T220744Z
DTSTAMP:20231225T220744Z
URL:http://hallenbelegung.hsg-hude-falkenburg.de/index.php/jahnhalle/wochenendbelegung-spielgelraum/indoor-cycling-2
X-ACCESS:1
X-HITS:9
X-COLOR:ffffff
X-SHOW-END-TIME:1
END:VEVENT
BEGIN:VEVENT
DTSTART;TZID=Europe/Berlin:20240224T160000
DTEND;TZID=Europe/Berlin:20240224T190000
UID:D8E71CCD-8314-4710-926F-A8DBC46A90C3
SUMMARY:Potters Pairs
CREATED:20231217T170018Z
DTSTAMP:20231217T170018Z
URL:http://hallenbelegung.hsg-hude-falkenburg.de/index.php/jahnhalle/wochenendbelegung-spielgelraum/potters-pairs
LAST-MODIFIED:20240121T072437Z
SEQUENCE:2989459
X-ACCESS:1
X-HITS:8
X-COLOR:ffffff
X-SHOW-END-TIME:1
END:VEVENT
BEGIN:VEVENT
DTSTART;TZID=Europe/Berlin:20240323T150000
DTEND;TZID=Europe/Berlin:20240323T180000
UID:9DD1DDBA-6503-4955-8B70-DF73ACC0D262
SUMMARY:Schottische Tänze
CREATED:20240314T165213Z
DTSTAMP:20240314T165213Z
URL:http://hallenbelegung.hsg-hude-falkenburg.de/index.php/jahnhalle/wochenendbelegung-spielgelraum/schottische-taenze-5
X-ACCESS:1
X-HITS:11
X-COLOR:ffffff
X-SHOW-END-TIME:1
END:VEVENT
BEGIN:VEVENT
DTSTART;TZID=Europe/Berlin:20240601T110000
DTEND;TZID=Europe/Berlin:20240601T130000
UID:74A57704-9AB3-4748-853E-252067C20F5C
SUMMARY:Martin Mc William
CREATED:20240529T160917Z
DTSTAMP:20240529T160917Z
URL:http://hallenbelegung.hsg-hude-falkenburg.de/index.php/jahnhalle/wochenendbelegung-spielgelraum/martin-mc-william
X-ACCESS:1
X-HITS:14
X-COLOR:ffffff
X-SHOW-END-TIME:1
END:VEVENT
BEGIN:VEVENT
DTSTART;TZID=Europe/Berlin:20240630T133000
DTEND;TZID=Europe/Berlin:20240630T234500
UID:9F11066C-B2FD-4E09-8203-865A61C1D088
SUMMARY:Tischtennis 
CREATED:20240628T144349Z
DTSTAMP:20240628T144349Z
URL:http://hallenbelegung.hsg-hude-falkenburg.de/index.php/jahnhalle/wochenendbelegung-spielgelraum/tischtennis-18
LAST-MODIFIED:20240628T144349Z
SEQUENCE:0
X-ACCESS:1
X-HITS:8
X-COLOR:ffffff
X-SHOW-END-TIME:1
END:VEVENT
BEGIN:VEVENT
DTSTART;VALUE=DATE:20240803
DTEND;VALUE=DATE:20240805
UID:E3ADC284-8978-4DD1-ACEA-F8391C6AE6DC
SUMMARY:Trainingslager Dago Leukefeld
CREATED:20240429T090503Z
DTSTAMP:20240429T090503Z
URL:http://hallenbelegung.hsg-hude-falkenburg.de/index.php/jahnhalle/wochenendbelegung-spielgelraum/trainingslager-dago-leukefeld
LAST-MODIFIED:20240602T071932Z
SEQUENCE:2931269
X-ACCESS:1
X-HITS:9
X-COLOR:ffffff
X-SHOW-END-TIME:1
END:VEVENT
BEGIN:VEVENT
DTSTART;TZID=Europe/Berlin:20240818T163000
DTEND;TZID=Europe/Berlin:20240818T200000
UID:FC3FF7DA-27CA-4E62-99C0-8F14E982E8F3
SUMMARY:Tischtennis Joshua
CREATED:20240818T122434Z
DTSTAMP:20240818T122434Z
URL:http://hallenbelegung.hsg-hude-falkenburg.de/index.php/jahnhalle/wochenendbelegung-spielgelraum/tischtennis-joshua
LAST-MODIFIED:20240818T122434Z
SEQUENCE:0
X-ACCESS:1
X-HITS:8
X-COLOR:ffffff
X-SHOW-END-TIME:1
END:VEVENT
BEGIN:VEVENT
DTSTART;TZID=Europe/Berlin:20240824T140000
DTEND;TZID=Europe/Berlin:20240824T170000
UID:DF528C73-6FD0-41D9-A2EF-D9439D9D39A4
SUMMARY:Potters Pairs
CREATED:20231217T170131Z
DTSTAMP:20231217T170131Z
URL:http://hallenbelegung.hsg-hude-falkenburg.de/index.php/jahnhalle/wochenendbelegung-spielgelraum/potters-pairs-2
LAST-MODIFIED:20231217T170323Z
SEQUENCE:112
X-ACCESS:1
X-HITS:9
X-COLOR:ffffff
X-SHOW-END-TIME:1
END:VEVENT
BEGIN:VEVENT
DTSTART;TZID=Europe/Berlin:20240914T160000
DTEND;TZID=Europe/Berlin:20240914T190000
UID:699D0C13-292E-44E2-82DD-669D4168DC81
SUMMARY:Tischtennis
CREATED:20240913T190147Z
DTSTAMP:20240913T190147Z
URL:http://hallenbelegung.hsg-hude-falkenburg.de/index.php/jahnhalle/wochenendbelegung-spielgelraum/tischtennis-19
LAST-MODIFIED:20240913T190147Z
SEQUENCE:0
X-ACCESS:1
X-HITS:9
X-COLOR:ffffff
X-SHOW-END-TIME:1
END:VEVENT
BEGIN:VEVENT
DTSTART;TZID=Europe/Berlin:20240921T150000
DTEND;TZID=Europe/Berlin:20240921T234500
UID:DE5976F1-3CE7-4DE3-9F97-DE42C5A19DF9
SUMMARY:Tischtennis
CREATED:20240918T174808Z
DTSTAMP:20240918T174808Z
URL:http://hallenbelegung.hsg-hude-falkenburg.de/index.php/jahnhalle/wochenendbelegung-spielgelraum/tischtennis-20
LAST-MODIFIED:20240918T174808Z
SEQUENCE:0
X-ACCESS:1
X-HITS:9
X-COLOR:ffffff
X-SHOW-END-TIME:1
END:VEVENT
BEGIN:VEVENT
DTSTART;TZID=Europe/Berlin:20241019T150000
DTEND;TZID=Europe/Berlin:20241019T193000
UID:D2D2C927-7644-4046-AC22-CFC80F35DD23
SUMMARY:TT 1.Herren 
CREATED:20241018T163819Z
DTSTAMP:20241018T163819Z
URL:http://hallenbelegung.hsg-hude-falkenburg.de/index.php/jahnhalle/wochenendbelegung-spielgelraum/tt-1-herren
LAST-MODIFIED:20241018T163819Z
SEQUENCE:0
X-ACCESS:1
X-HITS:8
X-COLOR:ffffff
X-SHOW-END-TIME:1
END:VEVENT
BEGIN:VEVENT
DTSTART;TZID=Europe/Berlin:20241222T093000
DTEND;TZID=Europe/Berlin:20241222T120000
UID:ABAD420F-FFE9-4877-90D6-7A83CD53B91B
SUMMARY:Mariia Tanzen
CREATED:20241221T175210Z
DTSTAMP:20241221T175210Z
URL:http://hallenbelegung.hsg-hude-falkenburg.de/index.php/jahnhalle/wochenendbelegung-spielgelraum/mariia-tanzen
LAST-MODIFIED:20241221T175210Z
SEQUENCE:0
X-ACCESS:1
X-HITS:7
X-COLOR:ffffff
X-SHOW-END-TIME:1
END:VEVENT
BEGIN:VEVENT
DTSTART;TZID=Europe/Berlin:20250118T101500
DTEND;TZID=Europe/Berlin:20250118T124500
UID:CAF14DB1-2B24-49E8-AAD6-2E3A644A9D39
SUMMARY:Interne FoBi Gesundheitssport
CREATED:20241007T072757Z
DTSTAMP:20241007T072757Z
URL:http://hallenbelegung.hsg-hude-falkenburg.de/index.php/jahnhalle/wochenendbelegung-spielgelraum/interne-fobi-gesundheitssport
LAST-MODIFIED:20241007T072757Z
SEQUENCE:0
X-ACCESS:1
X-HITS:8
X-COLOR:ffffff
X-SHOW-END-TIME:1
END:VEVENT
BEGIN:VEVENT
DTSTART;TZID=Europe/Berlin:20250118T190000
DTEND;TZID=Europe/Berlin:20250118T230000
UID:63CBF5C5-2448-4B44-B921-5248315E9D16
SUMMARY:Vorreserviert Neues Angebot freies Tanzen
CREATED:20240924T142009Z
DTSTAMP:20240924T142009Z
URL:http://hallenbelegung.hsg-hude-falkenburg.de/index.php/jahnhalle/wochenendbelegung-spielgelraum/vorreserviert-neue-angebot-freies-tanzen
LAST-MODIFIED:20240924T142035Z
SEQUENCE:26
X-ACCESS:1
X-HITS:9
X-COLOR:ffffff
X-SHOW-END-TIME:1
END:VEVENT
BEGIN:VEVENT
DTSTART;TZID=Europe/Berlin:20250308T140000
DTEND;TZID=Europe/Berlin:20250308T190000
UID:1FE756B7-591E-49FB-A13E-C58DDEC267FC
SUMMARY:Scottish Country Dance 
CREATED:20250126T090935Z
DTSTAMP:20250126T090935Z
URL:http://hallenbelegung.hsg-hude-falkenburg.de/index.php/jahnhalle/wochenendbelegung-spielgelraum/scottish-country-dance-4
LAST-MODIFIED:20250126T090935Z
SEQUENCE:0
X-ACCESS:1
X-HITS:6
X-COLOR:ffffff
X-SHOW-END-TIME:1
END:VEVENT
BEGIN:VEVENT
DTSTART;TZID=Europe/Berlin:20250315T080000
DTEND;TZID=Europe/Berlin:20250315T173000
UID:AC25C9E0-C925-4937-B09D-6D0CB058C075
SUMMARY:KSB Fobi
CREATED:20240709T110226Z
DTSTAMP:20240709T110226Z
URL:http://hallenbelegung.hsg-hude-falkenburg.de/index.php/jahnhalle/wochenendbelegung-spielgelraum/ksb-fobi
LAST-MODIFIED:20240709T110226Z
SEQUENCE:0
X-ACCESS:1
X-HITS:8
X-COLOR:ffffff
X-SHOW-END-TIME:1
END:VEVENT
BEGIN:VEVENT
DTSTART;TZID=Europe/Berlin:20250405T140000
DTEND;TZID=Europe/Berlin:20250405T170000
UID:C2201B81-6607-4C1F-853A-90CD1536540A
SUMMARY:Scottish Country Dance 
CREATED:20250404T060812Z
DTSTAMP:20250404T060812Z
URL:http://hallenbelegung.hsg-hude-falkenburg.de/index.php/jahnhalle/wochenendbelegung-spielgelraum/scottish-country-dance-7
LAST-MODIFIED:20250404T060812Z
SEQUENCE:0
X-ACCESS:1
X-HITS:6
X-COLOR:ffffff
X-SHOW-END-TIME:1
END:VEVENT
BEGIN:VEVENT
DTSTART;TZID=Europe/Berlin:20250413T153000
DTEND;TZID=Europe/Berlin:20250413T183000
UID:5C501178-7A4D-407B-9BE1-91581FD7ED9E
SUMMARY:Tischtennis 1.Herren
CREATED:20250411T193215Z
DTSTAMP:20250411T193215Z
URL:http://hallenbelegung.hsg-hude-falkenburg.de/index.php/jahnhalle/wochenendbelegung-spielgelraum/tischtennis-1-herren-3
LAST-MODIFIED:20250411T193215Z
SEQUENCE:0
X-ACCESS:1
X-HITS:5
X-COLOR:ffffff
X-SHOW-END-TIME:1
END:VEVENT
BEGIN:VEVENT
DTSTART;TZID=Europe/Berlin:20250426T100000
DTEND;TZID=Europe/Berlin:20250426T170000
UID:97DEF7C1-6F58-46F6-98AE-0B97CBA2B612
SUMMARY:TT 1.Herren 
CREATED:20250425T192132Z
DTSTAMP:20250425T192132Z
URL:http://hallenbelegung.hsg-hude-falkenburg.de/index.php/jahnhalle/wochenendbelegung-spielgelraum/tt-1-herren-2
LAST-MODIFIED:20250425T192132Z
SEQUENCE:0
X-ACCESS:1
X-HITS:3
X-COLOR:ffffff
X-SHOW-END-TIME:1
END:VEVENT
BEGIN:VEVENT
DTSTART;TZID=Europe/Berlin:20250427T140000
DTEND;TZID=Europe/Berlin:20250427T170000
UID:273735F9-B117-4D8B-A69A-60E8CC23B487
SUMMARY:Scottish Country Dance 
CREATED:20250418T140900Z
DTSTAMP:20250418T140900Z
URL:http://hallenbelegung.hsg-hude-falkenburg.de/index.php/jahnhalle/wochenendbelegung-spielgelraum/scottish-country-dance-8
LAST-MODIFIED:20250418T140900Z
SEQUENCE:0
X-ACCESS:1
X-HITS:4
X-COLOR:ffffff
X-SHOW-END-TIME:1
END:VEVENT
BEGIN:VEVENT
DTSTART;TZID=Europe/Berlin:20250503T100000
DTEND;TZID=Europe/Berlin:20250503T160000
UID:8AED3918-685F-45B2-B93F-79FB843B0B59
SUMMARY:Tischtennis Training Erw.
CREATED:20250430T155724Z
DTSTAMP:20250430T155724Z
URL:http://hallenbelegung.hsg-hude-falkenburg.de/index.php/jahnhalle/wochenendbelegung-spielgelraum/tischtennis-training-erw
LAST-MODIFIED:20250430T155724Z
SEQUENCE:0
X-ACCESS:1
X-HITS:3
X-COLOR:ffffff
X-SHOW-END-TIME:1
END:VEVENT
BEGIN:VEVENT
DTSTART;TZID=Europe/Berlin:20250517T100000
DTEND;TZID=Europe/Berlin:20250517T143000
UID:662DA708-3902-40E4-9CA9-89A6A561F832
SUMMARY:TT Saisonvorbereitung
CREATED:20250515T101435Z
DTSTAMP:20250515T101435Z
URL:http://hallenbelegung.hsg-hude-falkenburg.de/index.php/jahnhalle/wochenendbelegung-spielgelraum/tt-saisonvorbereitung
LAST-MODIFIED:20250515T101435Z
SEQUENCE:0
X-ACCESS:1
X-HITS:3
X-COLOR:ffffff
X-SHOW-END-TIME:1
END:VEVENT
BEGIN:VEVENT
DTSTART;TZID=Europe/Berlin:20250531T110000
DTEND;TZID=Europe/Berlin:20250531T160000
UID:6992BF93-C924-4C40-92DF-FD7882459117
SUMMARY:TT Saisonvorbereitung
CREATED:20250528T085201Z
DTSTAMP:20250528T085201Z
URL:http://hallenbelegung.hsg-hude-falkenburg.de/index.php/jahnhalle/wochenendbelegung-spielgelraum/tt-saisonvorbereitung-2
LAST-MODIFIED:20250528T085201Z
SEQUENCE:0
X-ACCESS:1
X-HITS:3
X-COLOR:ffffff
X-SHOW-END-TIME:1
END:VEVENT
BEGIN:VEVENT
DTSTART;TZID=Europe/Berlin:20250614T110000
DTEND;TZID=Europe/Berlin:20250614T160000
UID:365A30B7-9298-43BB-B674-0B90D4A00B02
SUMMARY:TT Vorbereitung
CREATED:20250612T233713Z
DTSTAMP:20250612T233713Z
URL:http://hallenbelegung.hsg-hude-falkenburg.de/index.php/jahnhalle/wochenendbelegung-spielgelraum/tt-vorbereitung
LAST-MODIFIED:20250612T233713Z
SEQUENCE:0
X-ACCESS:1
X-HITS:1
X-COLOR:ffffff
X-SHOW-END-TIME:1
END:VEVENT
BEGIN:VEVENT
DTSTART;VALUE=DATE:20250621
DTEND;VALUE=DATE:20250622
UID:F2447C93-4C7F-4C15-B70E-B96A7E6FAE20
SUMMARY:Ehrenamtsfest
CREATED:20250127T151643Z
DTSTAMP:20250127T151643Z
URL:http://hallenbelegung.hsg-hude-falkenburg.de/index.php/jahnhalle/wochenendbelegung-spielgelraum/ehrenamtsfest-2
LAST-MODIFIED:20250127T151643Z
SEQUENCE:0
X-ACCESS:1
X-HITS:6
X-COLOR:ffffff
X-SHOW-END-TIME:1
END:VEVENT
BEGIN:VEVENT
DTSTART;TZID=Europe/Berlin:20250622T143000
DTEND;TZID=Europe/Berlin:20250622T200000
UID:4D49CDA9-2C14-4844-845E-03C4F3F7AC55
SUMMARY:Scottish Country Dance 
CREATED:20250308T211224Z
DTSTAMP:20250308T211224Z
URL:http://hallenbelegung.hsg-hude-falkenburg.de/index.php/jahnhalle/wochenendbelegung-spielgelraum/scottish-country-dance-6
LAST-MODIFIED:20250308T211224Z
SEQUENCE:0
X-ACCESS:1
X-HITS:6
X-COLOR:ffffff
X-SHOW-END-TIME:1
END:VEVENT
BEGIN:VEVENT
DTSTART;TZID=Europe/Berlin:20250629T150000
DTEND;TZID=Europe/Berlin:20250629T180000
UID:0C0AF78A-BDFF-4994-AC8B-B6789937AF53
SUMMARY:TT OL Vorbereitung
CREATED:20250628T134356Z
DTSTAMP:20250628T134356Z
URL:http://hallenbelegung.hsg-hude-falkenburg.de/index.php/jahnhalle/wochenendbelegung-spielgelraum/tt-ol-vorbereitung
LAST-MODIFIED:20250628T134356Z
SEQUENCE:0
X-ACCESS:1
X-HITS:4
X-COLOR:ffffff
X-SHOW-END-TIME:1
END:VEVENT
BEGIN:VEVENT
DTSTART;TZID=Europe/Berlin:20250705T080000
DTEND;TZID=Europe/Berlin:20250718T090000
UID:CA06EBB8-E250-4967-8A16-BB061EDD0669
SUMMARY:Ferienbetreuung
CREATED:20250618T082823Z
DTSTAMP:20250618T082823Z
URL:http://hallenbelegung.hsg-hude-falkenburg.de/index.php/jahnhalle/wochenendbelegung-spielgelraum/ferienbetreuung-19
LAST-MODIFIED:20250618T082823Z
SEQUENCE:0
X-ACCESS:1
X-HITS:8
X-COLOR:ffffff
X-SHOW-END-TIME:1
END:VEVENT
BEGIN:VEVENT
DTSTART;TZID=Europe/Berlin:20250712T100000
DTEND;TZID=Europe/Berlin:20250712T160000
UID:0735F134-0A4F-4365-8686-17E2F878E21A
SUMMARY:Tischtennis
CREATED:20250711T134005Z
DTSTAMP:20250711T134005Z
URL:http://hallenbelegung.hsg-hude-falkenburg.de/index.php/jahnhalle/wochenendbelegung-spielgelraum/tischtennis-23
LAST-MODIFIED:20250711T134005Z
SEQUENCE:0
X-ACCESS:1
X-HITS:2
X-COLOR:ffffff
X-SHOW-END-TIME:1
END:VEVENT
BEGIN:VEVENT
DTSTART;TZID=Europe/Berlin:20250802T100000
DTEND;TZID=Europe/Berlin:20250802T140000
UID:501E93EC-6F7D-4D31-B54D-B05D9353FD02
SUMMARY:Tischtennis
CREATED:20250727T095313Z
DTSTAMP:20250727T095313Z
URL:http://hallenbelegung.hsg-hude-falkenburg.de/index.php/jahnhalle/wochenendbelegung-spielgelraum/tischtennis-24
LAST-MODIFIED:20250727T095313Z
SEQUENCE:0
X-ACCESS:1
X-HITS:2
X-COLOR:ffffff
X-SHOW-END-TIME:1
END:VEVENT
BEGIN:VEVENT
DTSTART;TZID=Europe/Berlin:20250816T110000
DTEND;TZID=Europe/Berlin:20250816T150000
UID:30A20479-418B-4BD3-86BF-9BADBAC4A3DB
SUMMARY:TT 1.Herren
CREATED:20250812T084532Z
DTSTAMP:20250812T084532Z
URL:http://hallenbelegung.hsg-hude-falkenburg.de/index.php/jahnhalle/wochenendbelegung-spielgelraum/tt-1-herren-3
LAST-MODIFIED:20250812T084532Z
SEQUENCE:0
X-ACCESS:1
X-HITS:2
X-COLOR:ffffff
X-SHOW-END-TIME:1
END:VEVENT
BEGIN:VEVENT
DTSTART;TZID=Europe/Berlin:20250906T100000
DTEND;TZID=Europe/Berlin:20250906T140000
UID:871EB1B9-6050-487A-8887-3C7CF86DCDC3
SUMMARY:TT Saisonvorbereitung
CREATED:20250904T111237Z
DTSTAMP:20250904T111237Z
URL:http://hallenbelegung.hsg-hude-falkenburg.de/index.php/jahnhalle/wochenendbelegung-spielgelraum/tt-saisonvorbereitung-3
LAST-MODIFIED:20250904T111237Z
SEQUENCE:0
X-ACCESS:1
X-HITS:2
X-COLOR:ffffff
X-SHOW-END-TIME:1
END:VEVENT
BEGIN:VEVENT
DTSTART;TZID=Europe/Berlin:20250920T100000
DTEND;TZID=Europe/Berlin:20250920T140000
UID:6680A65B-859E-400C-930E-E1C3CE86C530
SUMMARY:Tischtennis
CREATED:20250917T075111Z
DTSTAMP:20250917T075111Z
URL:http://hallenbelegung.hsg-hude-falkenburg.de/index.php/jahnhalle/wochenendbelegung-spielgelraum/tischtennis-25
LAST-MODIFIED:20250917T075111Z
SEQUENCE:0
X-ACCESS:1
X-HITS:2
X-COLOR:ffffff
X-SHOW-END-TIME:1
END:VEVENT
BEGIN:VEVENT
DTSTART;TZID=Europe/Berlin:20251018T140000
DTEND;TZID=Europe/Berlin:20251018T190000
UID:E33EBDAA-458C-4427-9492-1A46E27C8403
SUMMARY:Scottish Country Dance 
CREATED:20250129T163437Z
DTSTAMP:20250129T163437Z
URL:http://hallenbelegung.hsg-hude-falkenburg.de/index.php/jahnhalle/wochenendbelegung-spielgelraum/scottish-country-dance-5
LAST-MODIFIED:20250129T163437Z
SEQUENCE:0
X-ACCESS:1
X-HITS:6
X-COLOR:ffffff
X-SHOW-END-TIME:1
END:VEVENT
BEGIN:VEVENT
DTSTART;TZID=Europe/Berlin:20251227T100000
DTEND;TZID=Europe/Berlin:20251227T120000
UID:3DEB17C3-397E-4A52-9717-C42F0193D1F7
SUMMARY:Ida Huscher
CREATED:20251220T204134Z
DTSTAMP:20251220T204134Z
URL:http://hallenbelegung.hsg-hude-falkenburg.de/index.php/jahnhalle/wochenendbelegung-spielgelraum/ida-huscher-3
LAST-MODIFIED:20251220T204134Z
SEQUENCE:0
X-ACCESS:1
X-HITS:0
X-COLOR:ffffff
X-SHOW-END-TIME:1
END:VEVENT
BEGIN:VEVENT
DTSTART;TZID=Europe/Berlin:20260118T110000
DTEND;TZID=Europe/Berlin:20260118T130000
UID:48DF8AC9-C87E-4DF6-B462-2FEDA9989945
SUMMARY:Huscher
CREATED:20260116T225838Z
DTSTAMP:20260116T225838Z
URL:http://hallenbelegung.hsg-hude-falkenburg.de/index.php/jahnhalle/wochenendbelegung-spielgelraum/huscher
LAST-MODIFIED:20260116T225927Z
SEQUENCE:49
X-ACCESS:1
X-HITS:2
X-COLOR:ffffff
X-SHOW-END-TIME:1
END:VEVENT
BEGIN:VEVENT
DTSTART;TZID=Europe/Berlin:20260201T170000
DTEND;TZID=Europe/Berlin:20260201T234500
UID:CBEFEBAF-F050-4C67-8465-0C1AA69D0E3B
SUMMARY:Blutspende
CREATED:20260126T102903Z
DTSTAMP:20260126T102903Z
URL:http://hallenbelegung.hsg-hude-falkenburg.de/index.php/jahnhalle/wochenendbelegung-spielgelraum/blutspende-48
LAST-MODIFIED:20260126T102903Z
SEQUENCE:0
X-ACCESS:1
X-HITS:0
X-COLOR:ffffff
X-SHOW-END-TIME:1
END:VEVENT
BEGIN:VEVENT
DTSTART;VALUE=DATE:20260411
DTEND;VALUE=DATE:20260412
UID:D2719D2D-01D1-41B2-AB7A-8505DFB26E01
SUMMARY:Cycling- Event 
CREATED:20251124T084956Z
DTSTAMP:20251124T084956Z
URL:http://hallenbelegung.hsg-hude-falkenburg.de/index.php/jahnhalle/wochenendbelegung-spielgelraum/cycling-event-4
LAST-MODIFIED:20251124T084956Z
SEQUENCE:0
X-ACCESS:1
X-HITS:0
X-COLOR:ffffff
X-SHOW-END-TIME:1
END:VEVENT
BEGIN:VEVENT
DTSTART;VALUE=DATE:20260412
DTEND;VALUE=DATE:20260413
UID:FAC12217-FC44-4472-AD3A-51B9FA9E54C1
SUMMARY:Cycling- Event 
CREATED:20251124T085011Z
DTSTAMP:20251124T085011Z
URL:http://hallenbelegung.hsg-hude-falkenburg.de/index.php/jahnhalle/wochenendbelegung-spielgelraum/cycling-event-5
LAST-MODIFIED:20251124T085011Z
SEQUENCE:0
X-ACCESS:1
X-HITS:0
X-COLOR:ffffff
X-SHOW-END-TIME:1
END:VEVENT
BEGIN:VEVENT
DTSTART;TZID=Europe/Berlin:20260426T110000
DTEND;TZID=Europe/Berlin:20260426T130000
UID:82B91E74-F138-4178-9028-24E1F5A6D538
SUMMARY:Vortanzen mit Eltern (Mariia)
CREATED:20260422T155720Z
DTSTAMP:20260422T155720Z
URL:http://hallenbelegung.hsg-hude-falkenburg.de/index.php/jahnhalle/wochenendbelegung-spielgelraum/vortanzen-mit-eltern-mariia
LAST-MODIFIED:20260422T155720Z
SEQUENCE:0
X-ACCESS:1
X-HITS:0
X-COLOR:ffffff
X-SHOW-END-TIME:1
END:VEVENT
BEGIN:VEVENT
DTSTART;TZID=Europe/Berlin:20260524T133000
DTEND;TZID=Europe/Berlin:20260524T183000
UID:7B6885F9-52ED-4BC6-B67D-C74ED68165A4
SUMMARY:Schottischer Tanz
CREATED:20260414T064138Z
DTSTAMP:20260414T064138Z
URL:http://hallenbelegung.hsg-hude-falkenburg.de/index.php/jahnhalle/wochenendbelegung-spielgelraum/schottischer-tanz-9
LAST-MODIFIED:20260414T064138Z
SEQUENCE:0
X-ACCESS:1
X-HITS:1
X-COLOR:ffffff
X-SHOW-END-TIME:1
END:VEVENT
BEGIN:VEVENT
DTSTART;TZID=Europe/Berlin:20260711T110000
DTEND;TZID=Europe/Berlin:20260711T133000
UID:AD1C2D16-A828-49CA-A84A-B52241D8B642
SUMMARY:Qi Gong / Thai Chi Chuan
CREATED:20260326T083555Z
DTSTAMP:20260326T083555Z
URL:http://hallenbelegung.hsg-hude-falkenburg.de/index.php/jahnhalle/wochenendbelegung-spielgelraum/qi-gong-thai-chi-chuan-2
LAST-MODIFIED:20260326T083555Z
SEQUENCE:0
X-ACCESS:1
X-HITS:0
X-COLOR:ffffff
X-SHOW-END-TIME:1
END:VEVENT
BEGIN:VEVENT
DTSTART;TZID=Europe/Berlin:20260718T110000
DTEND;TZID=Europe/Berlin:20260718T133000
UID:FF4D2701-16EE-4E2D-AE07-402C559ADBFC
SUMMARY:Qi Gong / Thai Chi Chuan
CREATED:20260326T083648Z
DTSTAMP:20260326T083648Z
URL:http://hallenbelegung.hsg-hude-falkenburg.de/index.php/jahnhalle/wochenendbelegung-spielgelraum/qi-gong-thai-chi-chuan-3
LAST-MODIFIED:20260326T083648Z
SEQUENCE:0
X-ACCESS:1
X-HITS:0
X-COLOR:ffffff
X-SHOW-END-TIME:1
END:VEVENT
BEGIN:VEVENT
DTSTART;TZID=Europe/Berlin:20260725T110000
DTEND;TZID=Europe/Berlin:20260725T133000
UID:DF6B1095-60D3-4F89-B452-C919D3F12566
SUMMARY:Qi Gong / Thai Chi Chuan
CREATED:20260326T083720Z
DTSTAMP:20260326T083720Z
URL:http://hallenbelegung.hsg-hude-falkenburg.de/index.php/jahnhalle/wochenendbelegung-spielgelraum/qi-gong-thai-chi-chuan-4
LAST-MODIFIED:20260326T083720Z
SEQUENCE:0
X-ACCESS:1
X-HITS:0
X-COLOR:ffffff
X-SHOW-END-TIME:1
END:VEVENT
BEGIN:VEVENT
DTSTART;TZID=Europe/Berlin:20260801T110000
DTEND;TZID=Europe/Berlin:20260801T133000
UID:51EE4A61-F2B3-4F0D-BFCA-C5DF1EFB9D99
SUMMARY:Qi Gong / Thai Chi Chuan
CREATED:20260326T083749Z
DTSTAMP:20260326T083749Z
URL:http://hallenbelegung.hsg-hude-falkenburg.de/index.php/jahnhalle/wochenendbelegung-spielgelraum/qi-gong-thai-chi-chuan-5
LAST-MODIFIED:20260326T083749Z
SEQUENCE:0
X-ACCESS:1
X-HITS:0
X-COLOR:ffffff
X-SHOW-END-TIME:1
END:VEVENT
BEGIN:VEVENT
DTSTART;VALUE=DATE:20260808
DTEND;VALUE=DATE:20260809
UID:BDE550F8-5D45-4100-AD00-F041D50CD1AF
SUMMARY:Dago Camp
CREATED:20260205T183218Z
DTSTAMP:20260205T183218Z
URL:http://hallenbelegung.hsg-hude-falkenburg.de/index.php/jahnhalle/wochenendbelegung-spielgelraum/dago-camp-3
LAST-MODIFIED:20260205T183218Z
SEQUENCE:0
X-ACCESS:1
X-HITS:0
X-COLOR:ffffff
X-SHOW-END-TIME:1
END:VEVENT
BEGIN:VEVENT
DTSTART;VALUE=DATE:20260809
DTEND;VALUE=DATE:20260810
UID:1641AF07-18C2-45E1-B882-E4025FCF6622
SUMMARY:Dago Camp
CREATED:20260205T183251Z
DTSTAMP:20260205T183251Z
URL:http://hallenbelegung.hsg-hude-falkenburg.de/index.php/jahnhalle/wochenendbelegung-spielgelraum/dago-camp-4
LAST-MODIFIED:20260205T183251Z
SEQUENCE:0
X-ACCESS:1
X-HITS:0
X-COLOR:ffffff
X-SHOW-END-TIME:1
END:VEVENT
END:VCALENDAR